BEGIN:VCALENDAR
PRODID:-//github.com/rianjs/ical.net//NONSGML ical.net 2.1//EN
VERSION:2.0
BEGIN:VEVENT
DESCRIPTION:Amatérský pingpongový miniturnaj započítaný do Amatérské pingp
 ongové ligy MULTILIGY. Miniturnaj je určený jak pro registrované hráče MU
 LTILIGY\, tak i pro ostatní příchozí hráče. Systém miniturnaje je upraven
  tak\, aby spolu mohli hrát hráči různých úrovní (i začátečníci).\nRegist
 race také možná na e-mail multiliga@multiliga.cz.\nPLATBA STARTOVNÉHO pou
 ze v hotovosti na místě.
DTEND:20160628T210000
DTSTAMP:20260422T071629
DTSTART:20160628T180000
LOCATION:Stolní Tenis & Hravý Bar
SEQUENCE:0
SUMMARY:6. kolo Amatérské pingpongové ligy 2016 - 2. miniturnaj
UID:7fa498ba-da8e-4e2d-8a1b-a8dfe301ec9d
END:VEVENT
END:VCALENDAR
