BEGIN:VCALENDAR
PRODID:-//github.com/rianjs/ical.net//NONSGML ical.net 2.1//EN
VERSION:2.0
BEGIN:VEVENT
DESCRIPTION:Amatérský pingpongový miniturnaj započítaný do Amatérské pingp
 ongové ligy MULTILIGY. Miniturnaj je určený jak pro registrované hráče MU
 LTILIGY\, tak i pro ostatní příchozí hráče. Systém miniturnaje je upraven
  tak\, aby spolu mohli hrát hráči různých úrovní (i začátečníci). PLATBA 
 STARTOVNÉHO pouze v hotovosti na místě.
DTEND:20180827T210000
DTSTAMP:20260421T052619
DTSTART:20180827T183000
LOCATION:Stolní tenis Slatina
SEQUENCE:0
SUMMARY:8. kolo pingpongové ligy 2018 - 4. miniturnaj
UID:1f013b7d-fd70-478d-bb03-853c421e6a00
END:VEVENT
END:VCALENDAR
