BEGIN:VCALENDAR
PRODID:-//github.com/rianjs/ical.net//NONSGML ical.net 2.1//EN
VERSION:2.0
BEGIN:VEVENT
DESCRIPTION:Amatérský pingpongový miniturnaj započítaný do Amatérské pingp
 ongové ligy MULTILIGY. Miniturnaj je určený jak pro registrované hráče MU
 LTILIGY\, tak i pro ostatní příchozí hráče. Systém miniturnaje je upraven
  tak\, aby spolu mohli hrát hráči různých úrovní (i začátečníci). PLATBA 
 STARTOVNÉHO pouze v hotovosti na místě.
DTEND:20180924T210000
DTSTAMP:20260420T204905
DTSTART:20180924T183000
LOCATION:Stolní tenis Slatina
SEQUENCE:0
SUMMARY:9. kolo pingpongové ligy 2018 - 4. miniturnaj
UID:9d687649-91e6-4698-9204-7eb026ad5950
END:VEVENT
END:VCALENDAR
