BEGIN:VCALENDAR
PRODID:-//github.com/rianjs/ical.net//NONSGML ical.net 2.1//EN
VERSION:2.0
BEGIN:VEVENT
DESCRIPTION:Amatérský pingpongový miniturnaj započítaný do Amatérské pingp
 ongové ligy MULTILIGY. Miniturnaj je určený jak pro registrované hráče MU
 LTILIGY\, tak i pro ostatní příchozí hráče. Systém miniturnaje je upraven
  tak\, aby spolu mohli hrát hráči různých úrovní (i začátečníci).
DTEND:20250416T210000
DTSTAMP:20260421T085704
DTSTART:20250416T180000
LOCATION:Stolní tenis Slatina
SEQUENCE:0
SUMMARY:4. kolo pingpongové ligy 2025 - 3. miniturnaj
UID:465310b2-f960-4243-9935-fd06e29cc1da
END:VEVENT
END:VCALENDAR
