BEGIN:VCALENDAR
PRODID:-//github.com/rianjs/ical.net//NONSGML ical.net 2.1//EN
VERSION:2.0
BEGIN:VEVENT
DESCRIPTION:Amatérský pingpongový miniturnaj započítaný do Amatérské pingp
 ongové ligy MULTILIGY. Miniturnaj je určený jak pro registrované hráče MU
 LTILIGY\, tak i pro ostatní příchozí hráče. Systém miniturnaje je upraven
  tak\, aby spolu mohli hrát hráči různých úrovní (i začátečníci).
DTEND:20250521T210000
DTSTAMP:20260421T071345
DTSTART:20250521T180000
LOCATION:Stolní tenis Slatina
SEQUENCE:0
SUMMARY:5. kolo pingpongové ligy 2025 - 2. miniturnaj
UID:347dc09b-4c82-469b-b32f-e10a7452813e
END:VEVENT
END:VCALENDAR
