BEGIN:VCALENDAR
PRODID:-//github.com/rianjs/ical.net//NONSGML ical.net 2.1//EN
VERSION:2.0
BEGIN:VEVENT
DESCRIPTION:Amatérský pingpongový miniturnaj započítaný do Amatérské pingp
 ongové ligy MULTILIGY. Miniturnaj je určený jak pro registrované hráče MU
 LTILIGY\, tak i pro ostatní příchozí hráče. Systém miniturnaje je upraven
  tak\, aby spolu mohli hrát hráči různých úrovní (i začátečníci).
DTEND:20250917T210000
DTSTAMP:20260421T071547
DTSTART:20250917T180000
LOCATION:Stolní tenis Slatina
SEQUENCE:0
SUMMARY:9. kolo pingpongové ligy 2025 - 2. miniturnaj
UID:73788384-1c2e-4d3d-b106-f5eabc12bd64
END:VEVENT
END:VCALENDAR
