BEGIN:VCALENDAR
PRODID:-//github.com/rianjs/ical.net//NONSGML ical.net 2.1//EN
VERSION:2.0
BEGIN:VEVENT
DESCRIPTION:Turnaj byl přesunut na 1.10. Amatérský pingpongový miniturnaj 
 započítaný do Amatérské pingpongové ligy MULTILIGY. Miniturnaj je určený 
 jak pro registrované hráče MULTILIGY\, tak i pro ostatní příchozí hráče. 
 Systém miniturnaje je upraven tak\, aby spolu mohli hrát hráči různých úr
 ovní (i začátečníci).
DTEND:20251022T210000
DTSTAMP:20260421T085333
DTSTART:20251022T180000
LOCATION:Stolní tenis Slatina
SEQUENCE:0
SUMMARY:10. kolo pingpongové ligy 2025 - 2. miniturnaj
UID:25ea40fe-cafc-46d3-b2f7-6ecd1f376b4b
END:VEVENT
END:VCALENDAR
