BEGIN:VCALENDAR
PRODID:-//github.com/rianjs/ical.net//NONSGML ical.net 2.1//EN
VERSION:2.0
BEGIN:VEVENT
DESCRIPTION:Turnaj byl přesunut na 1.10. Amatérský pingpongový miniturnaj 
 započítaný do Amatérské pingpongové ligy MULTILIGY. Miniturnaj je určený 
 jak pro registrované hráče MULTILIGY\, tak i pro ostatní příchozí hráče. 
 Systém miniturnaje je upraven tak\, aby spolu mohli hrát hráči různých úr
 ovní (i začátečníci).
DTEND:20251029T210000
DTSTAMP:20260421T071539
DTSTART:20251029T180000
LOCATION:Stolní tenis Slatina
SEQUENCE:0
SUMMARY:10. kolo pingpongové ligy 2025 - 3. miniturnaj
UID:a2e53f4a-f0a7-46bc-83b1-2f1ba38b17b2
END:VEVENT
END:VCALENDAR
