BEGIN:VCALENDAR
PRODID:-//github.com/rianjs/ical.net//NONSGML ical.net 2.1//EN
VERSION:2.0
BEGIN:VEVENT
DESCRIPTION:Amatérský pingpongový miniturnaj započítaný do Amatérské pingp
 ongové ligy MULTILIGY. Miniturnaj je určený jak pro registrované hráče MU
 LTILIGY\, tak i pro ostatní příchozí hráče. Systém miniturnaje je upraven
  tak\, aby spolu mohli hrát hráči různých úrovní (i začátečníci).
DTEND:20251217T210000
DTSTAMP:20260421T071503
DTSTART:20251217T180000
LOCATION:Stolní tenis Slatina
SEQUENCE:0
SUMMARY:12. kolo pingpongové ligy 2025 - 2. miniturnaj
UID:b5f6d56b-7652-4798-88db-55c8b618828f
END:VEVENT
END:VCALENDAR
