BEGIN:VCALENDAR
PRODID:-//github.com/rianjs/ical.net//NONSGML ical.net 2.1//EN
VERSION:2.0
BEGIN:VEVENT
DESCRIPTION:ÚČASTNÍCI: turnaj je oupn\, tagže přihlásit se múže každé\nSYS
 TÉM TURNAJE: podle počtu přihlášenéch šprtecovéch plejerú\nPROTESTY: enem
  u pořadatele s fkladem jeden škopek\; fklad se nevrací bez ohledu na výs
 ledek protestu \nVYHLÁŠENÍ VÍTĚZŮ: Restaurace Orlovna hnet po skončení fi
 nálového mače \nHRACÍ ČAS: 3 x 6 min
DTEND:20240309T220000
DTSTAMP:20260423T190026
DTSTART:20240309T150000
LOCATION:Orel Holásky
SEQUENCE:0
SUMMARY:Šprtecové king
UID:2b9eee5a-68c2-474a-921f-f8351ad8dcff
END:VEVENT
END:VCALENDAR
