BEGIN:VCALENDAR
PRODID:-//github.com/rianjs/ical.net//NONSGML ical.net 2.1//EN
VERSION:2.0
BEGIN:VEVENT
DESCRIPTION:MS WH1
DTEND:20240428T180000
DTSTAMP:20260421T235346
DTSTART:20240427T100000
LOCATION:BB Štěrboholy
SEQUENCE:0
SUMMARY:MS WH1
UID:267454c2-d734-4224-bea7-a2e5f355d3ba
END:VEVENT
END:VCALENDAR
