BEGIN:VCALENDAR
PRODID:-//github.com/rianjs/ical.net//NONSGML ical.net 2.1//EN
VERSION:2.0
BEGIN:VEVENT
DESCRIPTION:Amatérský pingpongový miniturnaj započítaný do Amatérské pingp
 ongové ligy MULTILIGY. Miniturnaj je určený jak pro registrované hráče MU
 LTILIGY\, tak i pro ostatní příchozí hráče. Systém miniturnaje je upraven
  tak\, aby spolu mohli hrát hráči různých úrovní (i začátečníci).
DTEND:20250115T210000
DTSTAMP:20260421T123500
DTSTART:20250115T180000
LOCATION:Stolní tenis Slatina
SEQUENCE:0
SUMMARY:1. kolo pingpongové ligy 2025 - 2. miniturnaj
UID:11e93ff4-212e-41a7-8b64-501b2ea2c690
END:VEVENT
END:VCALENDAR
