BEGIN:VCALENDAR
PRODID:-//github.com/rianjs/ical.net//NONSGML ical.net 2.1//EN
VERSION:2.0
BEGIN:VEVENT
DESCRIPTION:Amatérský pingpongový miniturnaj započítaný do Amatérské pingp
 ongové ligy MULTILIGY. Miniturnaj je určený jak pro registrované hráče MU
 LTILIGY\, tak i pro ostatní příchozí hráče. Systém miniturnaje je upraven
  tak\, aby spolu mohli hrát hráči různých úrovní (i začátečníci).
DTEND:20250129T210000
DTSTAMP:20260421T140745
DTSTART:20250129T180000
LOCATION:Stolní tenis Slatina
SEQUENCE:0
SUMMARY:1. kolo pingpongové ligy 2025 - 4. miniturnaj
UID:6bc3555f-a2e5-4f93-8e36-59c0ea65e24d
END:VEVENT
END:VCALENDAR
