BEGIN:VCALENDAR
PRODID:-//github.com/rianjs/ical.net//NONSGML ical.net 2.1//EN
VERSION:2.0
BEGIN:VEVENT
DESCRIPTION:Amatérský pingpongový miniturnaj započítaný do Amatérské pingp
 ongové ligy MULTILIGY. Miniturnaj je určený jak pro registrované hráče MU
 LTILIGY\, tak i pro ostatní příchozí hráče. Systém miniturnaje je upraven
  tak\, aby spolu mohli hrát hráči různých úrovní (i začátečníci).
DTEND:20250219T210000
DTSTAMP:20260421T155822
DTSTART:20250219T180000
LOCATION:Stolní tenis Slatina
SEQUENCE:0
SUMMARY:2. kolo pingpongové ligy 2025 - 3. miniturnaj
UID:5e80838b-5a24-4d69-8999-50a7e850a715
END:VEVENT
END:VCALENDAR
