BEGIN:VCALENDAR
PRODID:-//github.com/rianjs/ical.net//NONSGML ical.net 2.1//EN
VERSION:2.0
BEGIN:VEVENT
DESCRIPTION:Amatérský pingpongový miniturnaj započítaný do Amatérské pingp
 ongové ligy MULTILIGY. Miniturnaj je určený jak pro registrované hráče MU
 LTILIGY\, tak i pro ostatní příchozí hráče. Systém miniturnaje je upraven
  tak\, aby spolu mohli hrát hráči různých úrovní (i začátečníci).
DTEND:20250226T210000
DTSTAMP:20260421T140752
DTSTART:20250226T180000
LOCATION:Stolní tenis Slatina
SEQUENCE:0
SUMMARY:2. kolo pingpongové ligy 2025 - 4. miniturnaj
UID:d260ba7a-02bd-4d37-956b-c8037cc277bf
END:VEVENT
END:VCALENDAR
