BEGIN:VCALENDAR
PRODID:-//github.com/rianjs/ical.net//NONSGML ical.net 2.1//EN
VERSION:2.0
BEGIN:VEVENT
DESCRIPTION:Amatérský pingpongový miniturnaj započítaný do Amatérské pingp
 ongové ligy MULTILIGY. Miniturnaj je určený jak pro registrované hráče MU
 LTILIGY\, tak i pro ostatní příchozí hráče. Systém miniturnaje je upraven
  tak\, aby spolu mohli hrát hráči různých úrovní (i začátečníci).
DTEND:20250305T210000
DTSTAMP:20260421T141023
DTSTART:20250305T180000
LOCATION:Stolní tenis Slatina
SEQUENCE:0
SUMMARY:3. kolo pingpongové ligy 2025 - 1. miniturnaj
UID:18f6753c-6f97-43c0-bff2-eb1316394f92
END:VEVENT
END:VCALENDAR
