BEGIN:VCALENDAR
PRODID:-//github.com/rianjs/ical.net//NONSGML ical.net 2.1//EN
VERSION:2.0
BEGIN:VEVENT
DESCRIPTION:Amatérský pingpongový miniturnaj započítaný do Amatérské pingp
 ongové ligy MULTILIGY. Miniturnaj je určený jak pro registrované hráče MU
 LTILIGY\, tak i pro ostatní příchozí hráče. Systém miniturnaje je upraven
  tak\, aby spolu mohli hrát hráči různých úrovní (i začátečníci).
DTEND:20250312T210000
DTSTAMP:20260421T140718
DTSTART:20250312T180000
LOCATION:Stolní tenis Slatina
SEQUENCE:0
SUMMARY:3. kolo pingpongové ligy 2025 - 2. miniturnaj
UID:6e686be9-0480-4d59-88ad-e0616ae27c78
END:VEVENT
END:VCALENDAR
