BEGIN:VCALENDAR
PRODID:-//github.com/rianjs/ical.net//NONSGML ical.net 2.1//EN
VERSION:2.0
BEGIN:VEVENT
DESCRIPTION:Amatérský pingpongový miniturnaj započítaný do Amatérské pingp
 ongové ligy MULTILIGY. Miniturnaj je určený jak pro registrované hráče MU
 LTILIGY\, tak i pro ostatní příchozí hráče. Systém miniturnaje je upraven
  tak\, aby spolu mohli hrát hráči různých úrovní (i začátečníci).
DTEND:20250319T210000
DTSTAMP:20260421T140854
DTSTART:20250319T180000
LOCATION:Stolní tenis Slatina
SEQUENCE:0
SUMMARY:3. kolo pingpongové ligy 2025 - 3. miniturnaj
UID:3c573b9a-9037-49e3-8216-db21a79f6570
END:VEVENT
END:VCALENDAR
