BEGIN:VCALENDAR
PRODID:-//github.com/rianjs/ical.net//NONSGML ical.net 2.1//EN
VERSION:2.0
BEGIN:VEVENT
DESCRIPTION:Amatérský pingpongový miniturnaj započítaný do Amatérské pingp
 ongové ligy MULTILIGY. Miniturnaj je určený jak pro registrované hráče MU
 LTILIGY\, tak i pro ostatní příchozí hráče. Systém miniturnaje je upraven
  tak\, aby spolu mohli hrát hráči různých úrovní (i začátečníci).
DTEND:20250402T210000
DTSTAMP:20260421T140848
DTSTART:20250402T180000
LOCATION:Stolní tenis Slatina
SEQUENCE:0
SUMMARY:4. kolo pingpongové ligy 2025 - 1. miniturnaj
UID:df75c65c-1d41-4c6e-90eb-36fd7d652077
END:VEVENT
END:VCALENDAR
