BEGIN:VCALENDAR
PRODID:-//github.com/rianjs/ical.net//NONSGML ical.net 2.1//EN
VERSION:2.0
BEGIN:VEVENT
DESCRIPTION:Amatérský pingpongový miniturnaj započítaný do Amatérské pingp
 ongové ligy MULTILIGY. Miniturnaj je určený jak pro registrované hráče MU
 LTILIGY\, tak i pro ostatní příchozí hráče. Systém miniturnaje je upraven
  tak\, aby spolu mohli hrát hráči různých úrovní (i začátečníci).
DTEND:20250430T210000
DTSTAMP:20260421T155847
DTSTART:20250430T180000
LOCATION:Stolní tenis Slatina
SEQUENCE:0
SUMMARY:4. kolo pingpongové ligy 2025 - 5. miniturnaj
UID:5b343d3f-28ab-42f7-a0f4-5b09bc8e5860
END:VEVENT
END:VCALENDAR
