BEGIN:VCALENDAR
PRODID:-//github.com/rianjs/ical.net//NONSGML ical.net 2.1//EN
VERSION:2.0
BEGIN:VEVENT
DESCRIPTION:Amatérský pingpongový miniturnaj započítaný do Amatérské pingp
 ongové ligy MULTILIGY. Miniturnaj je určený jak pro registrované hráče MU
 LTILIGY\, tak i pro ostatní příchozí hráče. Systém miniturnaje je upraven
  tak\, aby spolu mohli hrát hráči různých úrovní (i začátečníci).
DTEND:20250625T210000
DTSTAMP:20260421T140744
DTSTART:20250625T180000
LOCATION:Stolní tenis Slatina
SEQUENCE:0
SUMMARY:6. kolo pingpongové ligy 2025 - 3. miniturnaj
UID:ab4e439e-daea-40b2-b7e3-5e08706b287d
END:VEVENT
END:VCALENDAR
