BEGIN:VCALENDAR
PRODID:-//github.com/rianjs/ical.net//NONSGML ical.net 2.1//EN
VERSION:2.0
BEGIN:VEVENT
DESCRIPTION:Amatérský pingpongový miniturnaj započítaný do Amatérské pingp
 ongové ligy MULTILIGY. Miniturnaj je určený jak pro registrované hráče MU
 LTILIGY\, tak i pro ostatní příchozí hráče. Systém miniturnaje je upraven
  tak\, aby spolu mohli hrát hráči různých úrovní (i začátečníci).
DTEND:20250716T210000
DTSTAMP:20260421T140931
DTSTART:20250716T180000
LOCATION:Stolní tenis Slatina
SEQUENCE:0
SUMMARY:7. kolo pingpongové ligy 2025 - 1. miniturnaj
UID:17725265-a8f7-4912-ae25-63abfcef68a6
END:VEVENT
END:VCALENDAR
