BEGIN:VCALENDAR
PRODID:-//github.com/rianjs/ical.net//NONSGML ical.net 2.1//EN
VERSION:2.0
BEGIN:VEVENT
DESCRIPTION:Amatérský pingpongový miniturnaj započítaný do Amatérské pingp
 ongové ligy MULTILIGY. Miniturnaj je určený jak pro registrované hráče MU
 LTILIGY\, tak i pro ostatní příchozí hráče. Systém miniturnaje je upraven
  tak\, aby spolu mohli hrát hráči různých úrovní (i začátečníci).
DTEND:20251210T210000
DTSTAMP:20260421T140930
DTSTART:20251210T180000
LOCATION:Stolní tenis Slatina
SEQUENCE:0
SUMMARY:12. kolo pingpongové ligy 2025 - 1. miniturnaj
UID:8d177fc8-5823-4ad3-8990-f6276c6e6abf
END:VEVENT
END:VCALENDAR
